Workbook
Name OLE_LINK1: 部数表!$C$184

Sheet 市郡別一覧
B2: 長崎県市郡別一覧表
C3: 地区＼新聞 | E3: 長崎新聞 | F3: Nポス | G3: 朝日新聞 | H3: 毎日新聞 | I3: 読売新聞 | J3: 西日本新聞 | K3: 合計
B4: 諫早本社 分納可能地区 | C4: 長崎市 | E4: 71070 | F4: 4590 | G4: 0 | H4: 2140 | I4: 8960 | J4: 0 | K4: =SUM(E4:J4) -> 86760
E5: =IF(ISERROR(+部数表!E55),0,+部数表!E55) -> 0 | F5: =IF(ISERROR(+部数表!I55),0,+部数表!I55) -> 0 | G5: =IF(ISERROR(+部数表!M55),0,+部数表!M55) -> 0 | H5: =IF(ISERROR(+部数表!Q55),0,+部数表!Q55) -> 0 | I5: =IF(ISERROR(+部数表!U55),0,+部数表!U55) -> 0 | J5: =IF(ISERROR(+部数表!Y55),0,+部数表!Y55) -> 0 | K5: =SUM(E5:J5) -> 0
C6: 西彼杵郡 | E6: 11200 | F6: 700 | G6: 0 | H6: 0 | I6: 1690 | J6: 0 | K6: =SUM(E6:J6) -> 13590
C7: (長与･時津) | E7: =IF(ISERROR(+部数表!E62),0,+部数表!E62) -> 0 | F7: =IF(ISERROR(+部数表!I62),0,+部数表!I62) -> 0 | G7: =IF(ISERROR(+部数表!M62),0,+部数表!M62) -> 0 | H7: =IF(ISERROR(+部数表!Q62),0,+部数表!Q62) -> 0 | I7: =IF(ISERROR(+部数表!U62),0,+部数表!U62) -> 0 | J7: =IF(ISERROR(+部数表!Y62),0,+部数表!Y62) -> 0 | K7: =SUM(E7:J7) -> 0
C8: 西海市 | E8: 4940 | G8: 0 | I8: 0 | J8: 50 | K8: =SUM(E8:J8) -> 4990
E9: =IF(ISERROR(+部数表!E69),0,+部数表!E69) -> 0 | G9: =IF(ISERROR(+部数表!M69),0,+部数表!M69) -> 0 | I9: =IF(ISERROR(+部数表!U69),0,+部数表!U69) -> 0 | J9: =IF(ISERROR(+部数表!Y69),0,+部数表!Y69) -> 0 | K9: =SUM(E9:J9) -> 0
C10: 諫早市 | E10: 18220 | F10: 250 | G10: 290 | H10: 2700 | I10: 3750 | J10: 2240 | K10: =SUM(E10:J10) -> 27450
E11: =IF(ISERROR(+部数表!E79),0,+部数表!E79) -> 0 | F11: =IF(ISERROR(+部数表!I79),0,+部数表!I79) -> 0 | G11: =IF(ISERROR(+部数表!M79),0,+部数表!M79) -> 0 | H11: =IF(ISERROR(+部数表!Q79),0,+部数表!Q79) -> 0 | I11: =IF(ISERROR(+部数表!U79),0,+部数表!U79) -> 0 | J11: =IF(ISERROR(+部数表!Y79),0,+部数表!Y79) -> 0 | K11: =SUM(E11:J11) -> 0
C12: 島原市 | E12: 4880 | G12: 390 | H12: 620 | I12: 280 | J12: 1280 | K12: =SUM(E12:J12) -> 7450
E13: =IF(ISERROR(+部数表!E85),0,+部数表!E85) -> 0 | G13: =IF(ISERROR(+部数表!M85),0,+部数表!M85) -> 0 | H13: =IF(ISERROR(+部数表!Q85),0,+部数表!Q85) -> 0 | I13: =IF(ISERROR(+部数表!U85),0,+部数表!U85) -> 0 | J13: =IF(ISERROR(+部数表!Y85),0,+部数表!Y85) -> 0 | K13: =SUM(E13:J13) -> 0
C14: 雲仙市 | E14: 8780 | G14: 0 | H14: 0 | K14: =SUM(E14:J14) -> 8780
E15: =IF(ISERROR(+部数表!E97),0,+部数表!E97) -> 0 | H15: =IF(ISERROR(+部数表!Q97),0,+部数表!Q97) -> 0 | I15: =IF(ISERROR(+部数表!U97),0,+部数表!U97) -> 0 | J15: =IF(ISERROR(+部数表!Y97),0,+部数表!Y97) -> 0 | K15: =SUM(E15:J15) -> 0
C16: 南島原市 | E16: 7180 | G16: 0 | H16: 70 | I16: 310 | J16: 720 | K16: =SUM(E16:J16) -> 8280
E17: =IF(ISERROR(+部数表!E105),0,+部数表!E105) -> 0 | G17: =IF(ISERROR(+部数表!M105),0,+部数表!M105) -> 0 | H17: =IF(ISERROR(+部数表!Q105),0,+部数表!Q105) -> 0 | I17: =IF(ISERROR(+部数表!U105),0,+部数表!U105) -> 0 | J17: =IF(ISERROR(+部数表!Y105),0,+部数表!Y105) -> 0 | K17: =SUM(E17:J17) -> 0
C18: 大村市 | E18: 9530 | F18: 100 | G18: 0 | H18: 390 | I18: 2050 | J18: 3180 | K18: =SUM(E18:J18) -> 15250
E19: =IF(ISERROR(+部数表!E113),0,+部数表!E113) -> 0 | F19: =IF(ISERROR(+部数表!I113),0,+部数表!I113) -> 0 | G19: =IF(ISERROR(+部数表!M113),0,+部数表!M113) -> 0 | H19: =IF(ISERROR(+部数表!Q113),0,+部数表!Q113) -> 0 | I19: =IF(ISERROR(+部数表!U113),0,+部数表!U113) -> 0 | J19: =IF(ISERROR(+部数表!Y113),0,+部数表!Y113) -> 0 | K19: =SUM(E19:J19) -> 0
C20: 東彼杵郡 | E20: 4470 | F20: 50 | G20: 0 | I20: 1980 | J20: 300 | K20: =SUM(E20:J20) -> 6800
E21: =IF(ISERROR(+部数表!E118),0,+部数表!E118) -> 0 | F21: =IF(ISERROR(+部数表!I118),0,+部数表!I118) -> 0 | I21: =IF(ISERROR(+部数表!U118),0,+部数表!U118) -> 0 | J21: =IF(ISERROR(+部数表!Y118),0,+部数表!Y118) -> 0 | K21: =SUM(E21:J21) -> 0
B22: 佐世保支社 | C22: 佐世保市 | E22: 17850 | F22: 1400 | G22: 0 | H22: 2270 | I22: 9870 | J22: 11050 | K22: =SUM(E22:J22) -> 42440
C23: ※旧北松(鹿町・江迎町含む) | E23: =IF(ISERROR(+部数表!E137),0,+部数表!E137) -> 0 | F23: =IF(ISERROR(+部数表!I137),0,+部数表!I137) -> 0 | G23: =IF(ISERROR(+部数表!M137),0,+部数表!M137) -> 0 | H23: =IF(ISERROR(+部数表!Q137),0,+部数表!Q137) -> 0 | I23: =IF(ISERROR(+部数表!U137),0,+部数表!U137) -> 0 | J23: =IF(ISERROR(+部数表!Y137),0,+部数表!Y137) -> 0 | K23: =SUM(E23:J23) -> 0
C24: 北松浦郡 | E24: 2100 | H24: 0 | I24: 610 | K24: =SUM(E24:J24) -> 2710
E25: =IF(ISERROR(+部数表!E141),0,+部数表!E141) -> 0 | I25: =IF(ISERROR(+部数表!U141),0,+部数表!U141) -> 0 | J25: =IF(ISERROR(+部数表!Y141),0,+部数表!Y141) -> 0 | K25: =SUM(E25:J25) -> 0
C26: 松浦市 | E26: 2970 | G26: 0 | I26: 940 | K26: =SUM(E26:J26) -> 3910
E27: =IF(ISERROR(+部数表!E154),0,+部数表!E154) -> 0 | I27: =IF(ISERROR(+部数表!U154),0,+部数表!U154) -> 0 | J27: =IF(ISERROR(+部数表!Y154),0,+部数表!Y154) -> 0 | K27: =SUM(E27:J27) -> 0
C28: 平戸市 | E28: 4450 | G28: 0 | H28: 0 | I28: 210 | K28: =SUM(E28:J28) -> 4660
E29: =IF(ISERROR(+部数表!E146),0,+部数表!E146) -> 0 | G29: =IF(ISERROR(+部数表!M146),0,+部数表!M146) -> 0 | H29: =IF(ISERROR(+部数表!Q146),0,+部数表!Q146) -> 0 | I29: =IF(ISERROR(+部数表!U146),0,+部数表!U146) -> 0 | J29: =IF(ISERROR(+部数表!Y146),0,+部数表!Y146) -> 0 | K29: =SUM(E29:J29) -> 0
B30: 諫早本社 分納可能地区 | C30: 五島市☆ | E30: 5970 | G30: 230 | H30: 0 | I30: 110 | J30: 20 | K30: =SUM(E30:J30) -> 6330
E31: =IF(ISERROR(+部数表!E164),0,+部数表!E164) -> 0 | G31: =IF(ISERROR(+部数表!M164),0,+部数表!M164) -> 0 | H31: =IF(ISERROR(+部数表!Q164),0,+部数表!Q164) -> 0 | I31: =IF(ISERROR(+部数表!U164),0,+部数表!U164) -> 0 | J31: =IF(ISERROR(+部数表!Y164),0,+部数表!Y164) -> 0 | K31: =SUM(E31:J31) -> 0
C32: 南松浦郡 新上五島町☆ | E32: 2210 | H32: 0 | I32: 0 | K32: =SUM(E32:J32) -> 2210
E33: =IF(ISERROR(+部数表!E173),0,+部数表!E173) -> 0 | G33: =IF(ISERROR(+部数表!M173),0,+部数表!M173) -> 0 | I33: =IF(ISERROR(+部数表!U173),0,+部数表!U173) -> 0 | J33: =IF(ISERROR(+部数表!Y173),0,+部数表!Y173) -> 0 | K33: =SUM(E33:J33) -> 0
C34: 壱岐市☆ | E34: 220 | H34: 20 | I34: 1260 | J34: 1200 | K34: =SUM(E34:J34) -> 2700
E35: =IF(ISERROR(+部数表!E177),0,+部数表!E177) -> 0 | H35: =IF(ISERROR(+部数表!Q177),0,+部数表!Q177) -> 0 | I35: =IF(ISERROR(+部数表!U177),0,+部数表!U177) -> 0 | J35: =IF(ISERROR(+部数表!Y177),0,+部数表!Y177) -> 0 | K35: =SUM(E35:J35) -> 0
C36: 対馬市☆ | E36: 1880 | I36: 0 | J36: 90 | K36: =SUM(E36:J36) -> 1970
E37: =IF(ISERROR(+部数表!E182),0,+部数表!E182) -> 0 | J37: =IF(ISERROR(+部数表!Y182),0,+部数表!Y182) -> 0 | K37: =SUM(E37:J37) -> 0
C38: 合計 | E38: =+E4+E6+E8+E10+E12+E16+E18+E22+E20+E24+E26+E28+E30+E32+E34+E36+E14 -> 177920 | F38: =+F4+F6+F8+F10+F12+F16+F18+F22+F20+F24+F26+F28+F30+F32+F34+F36+F14 -> 7090 | G38: =+G4+G6+G8+G10+G12+G16+G18+G22+G20+G24+G26+G28+G30+G32+G34+G36+G14 -> 910 | H38: =+H4+H6+H8+H10+H12+H16+H18+H22+H20+H24+H26+H28+H30+H32+H34+H36+H14 -> 8210 | I38: =+I4+I6+I8+I10+I12+I16+I18+I22+I20+I24+I26+I28+I30+I32+I34+I36+I14 -> 32020 | J38: =+J4+J6+J8+J10+J12+J16+J18+J22+J20+J24+J26+J28+J30+J32+J34+J36+J14 -> 20130 | K38: =SUM(E38:J38) -> 246280
C39: ☆離島地域 | E39: =+E5+E7+E9+E11+E13+E17+E19+E23+E21+E25+E27+E29+E31+E33+E35+E37+E15 -> 0 | F39: =+F5+F7+F9+F11+F13+F17+F19+F23+F21+F25+F27+F29+F31+F33+F35+F37+F15 -> 0 | G39: =+G5+G7+G9+G11+G13+G17+G19+G23+G21+G25+G27+G29+G31+G33+G35+G37+G15 -> 0 | H39: =+H5+H7+H9+H11+H13+H17+H19+H23+H21+H25+H27+H29+H31+H33+H35+H37+H15 -> 0 | I39: =+I5+I7+I9+I11+I13+I17+I19+I23+I21+I25+I27+I29+I31+I33+I35+I37+I15 -> 0 | J39: =+J5+J7+J9+J11+J13+J17+J19+J23+J21+J25+J27+J29+J31+J33+J35+J37+J15 -> 0 | K39: =SUM(E39:J39) -> 0
C40: ※日本経済新聞は地域によっては折り込みが出来ませんのでまえもってお問い合わせ下さい。必ずしも販売店区域と行政区域とは一致しているとは限りません。
C41: ※各新聞系列の販売店の中には複数の新聞取扱い店も含まれています。(媒体指定はできかねます。ご了承下さい） | I41: 分納(諫早/佐世保) | J41: =+K5+K7+K9+K11+K13+K15+K17+K19+K31+K33+K35+K37+K21 -> 0 | K41: =+K23+K25+K27+K29 -> 0
C42: ★この部数表は各紙発表部数に基づいて発行されております。 | K42: ㈱長崎新聞コネクト ２０２６年１０月改訂

Sheet 部数表
C2: ・折込指定日 | D2: ・広告主 | L2: ・タイトル | S2: ・サイズ | T2: ・折込総枚数 | W2: ・請求先 | Y2: 担当者
T3: =+E4+M4+Q4+U4+Y4+I4 -> 0
C4: 長崎新聞 | E4: =SUBTOTAL(9,E7:E181) -> 0 | G4: Nポス(PS) ※火･金･土は以外は不可 | I4: =SUBTOTAL(9,I7:I181) -> 0 | K4: 朝日新聞(A) | M4: =SUBTOTAL(9,M7:M181) -> 0 | O4: 毎日新聞(M) | Q4: =SUBTOTAL(9,Q7:Q181) -> 0 | S4: 読売新聞(Y) | U4: =SUBTOTAL(9,U7:U181) -> 0 | W4: 西日本新聞(N) | Y4: =SUBTOTAL(9,Y7:Y181) -> 0
C5: 販売店名 | D5: 部数 | E5: 折込数 | F5: 割合 | G5: 販売店名 | H5: 部数 | I5: 折込数 | J5: 割合 | K5: 販売店名 | L5: 部数 | M5: 折込数 | N5: 割合 | O5: 販売店名 | P5: 部数 | Q5: 折込数 | R5: 割合 | S5: 販売店名 | T5: 部数 | U5: 折込数 | V5: 割合 | W5: 販売店名 | X5: 部数 | Y5: 折込数 | Z5: 割合
B6: =+$C$1 -> 0 | C6: =IF(E55+I55+M55+Q55+U55+Y55>0,"長崎市 " & TEXT(E55+I55+M55+Q55+U55+Y55,"#,###,###枚"),"長崎市") -> 長崎市 | F6: =+B6 -> 0 | J6: =+$B6 -> 0 | R6: =+B6 -> 0 | V6: =+B6 -> 0
B7: 長崎市(南部地区) | C7: 新大工AMNK | D7: 1560 | E7: =ROUND(F7*D7/100,-1) -> 0 | F7: =+F$6 -> 0 | G7: (PS)新大工 | H7: 120 | I7: =IF(+J7>0,+H7,0) -> 0 | J7: =+J$6 -> 0 | O7: 中央大浦S | P7: 1900 | Q7: =ROUND(R7*P7/100,-1) -> 0 | R7: =+R$6 -> 0 | S7: 中川K | T7: 350 | U7: =ROUND(V7*T7/100,-1) -> 0 | V7: =+V$6 -> 0
C8: 西山片淵AMNSK | D8: 1560 | E8: =ROUND(F8*D8/100,-1) -> 0 | F8: =+F$6 -> 0 | G8: (PS)西山片淵 | H8: 120 | I8: =IF(+J8>0,+H8,0) -> 0 | J8: =+J$6 -> 0 | S8: 西山K | T8: 810 | U8: =ROUND(V8*T8/100,-1) -> 0 | V8: =+V$6 -> 0
C9: 桜馬場AMNK | D9: 1510 | E9: =ROUND(F9*D9/100,-1) -> 0 | F9: =+F$6 -> 0 | G9: (PS)桜馬場 | H9: 120 | I9: =IF(+J9>0,+H9,0) -> 0 | J9: =+J$6 -> 0 | O9: 戸町S | P9: 240 | Q9: =ROUND(R9*P9/100,-1) -> 0 | R9: =+R$6 -> 0
C10: 立山桜町AMN | D10: 1570 | E10: =ROUND(F10*D10/100,-1) -> 0 | F10: =+F$6 -> 0 | G10: (PS)立山桜町 | H10: 50 | I10: =IF(+J10>0,+H10,0) -> 0 | J10: =+J$6 -> 0 | S10: 新戸町ANK | T10: 1610 | U10: =ROUND(V10*T10/100,-1) -> 0 | V10: =+V$6 -> 0
C11: 駅前AN | D11: 1330 | E11: =ROUND(F11*D11/100,-1) -> 0 | F11: =+F$6 -> 0 | G11: (PS)駅前 | H11: 50 | I11: =IF(+J11>0,+H11,0) -> 0 | J11: =+J$6 -> 0 | S11: 南長崎ANK | T11: 820 | U11: =ROUND(V11*T11/100,-1) -> 0 | V11: =+V$6 -> 0
C12: 宝町天神AMNS | D12: 1170 | E12: =ROUND(F12*D12/100,-1) -> 0 | F12: =+F$6 -> 0 | G12: (PS)宝町天神 | H12: 50 | I12: =IF(+J12>0,+H12,0) -> 0 | J12: =+J$6 -> 0
C13: 本河内AMNK | D13: 790 | E13: =ROUND(F13*D13/100,-1) -> 0 | F13: =+F$6 -> 0 | G13: (PS)本河内 | H13: 100 | I13: =IF(+J13>0,+H13,0) -> 0 | J13: =+J$6 -> 0
C14: 南が丘AMYNK | D14: 1020 | E14: =ROUND(F14*D14/100,-1) -> 0 | F14: =+F$6 -> 0 | G14: (PS)南が丘 | H14: 50 | I14: =IF(+J14>0,+H14,0) -> 0 | J14: =+J$6 -> 0
C15: 小島AMYNK | D15: 1410 | E15: =ROUND(F15*D15/100,-1) -> 0 | F15: =+F$6 -> 0 | G15: (PS)小島 | H15: 50 | I15: =IF(+J15>0,+H15,0) -> 0 | J15: =+J$6 -> 0 | Q15: =ROUND(R15*P15/100,-1) -> 0
C16: 田上AMYNSK | D16: 1710 | E16: =ROUND(F16*D16/100,-1) -> 0 | F16: =+F$6 -> 0 | G16: (PS)田上 | H16: 50 | I16: =IF(+J16>0,+H16,0) -> 0 | J16: =+J$6 -> 0
C17: 八幡･浜町AMNSK | D17: 2130 | E17: =ROUND(F17*D17/100,-1) -> 0 | F17: =+F$6 -> 0 | G17: (PS)八幡･浜町 | H17: 150 | I17: =IF(+J17>0,+H17,0) -> 0 | J17: =+J$6 -> 0
C18: 大浦ANSK | D18: 2090 | E18: =ROUND(F18*D18/100,-1) -> 0 | F18: =+F$6 -> 0 | G18: (PS)大浦 | H18: 50 | I18: =IF(+J18>0,+H18,0) -> 0 | J18: =+J$6 -> 0
C19: 戸町(出雲含む)MK | D19: 3540 | E19: =ROUND(F19*D19/100,-1) -> 0 | F19: =+F$6 -> 0 | G19: (PS)戸町 | H19: 500 | I19: =IF(+J19>0,+H19,0) -> 0 | J19: =+J$6 -> 0
C20: 深堀M | D20: 2520 | E20: =ROUND(F20*D20/100,-1) -> 0 | F20: =+F$6 -> 0 | G20: (PS)深堀･香焼 | H20: 150 | I20: =IF(+J20>0,+H20,0) -> 0 | J20: =+J$6 -> 0
C21: 平山M | D21: 1040 | E21: =ROUND(F21*D21/100,-1) -> 0 | F21: =+F$6 -> 0
C22: 茂木AMYNK | D22: 740 | E22: =ROUND(F22*D22/100,-1) -> 0 | F22: =+F$6 -> 0
C23: 日吉AMN | D23: 170 | E23: =ROUND(F23*D23/100,-1) -> 0 | F23: =+F$6 -> 0
B24: 野母半島 | C24: 香焼AMNK | D24: 770 | E24: =ROUND(F24*D24/100,-1) -> 0 | F24: =+F$6 -> 0 | G24: ※(PS)香焼-深堀に統合202604 | J24: =+J$6 -> 0
C25: 蚊焼AMNK | D25: 2640 | E25: =ROUND(F25*D25/100,-1) -> 0 | F25: =+F$6 -> 0 | G25: (PS)蚊焼･平山 | H25: 100 | I25: =IF(+J25>0,+H25,0) -> 0 | J25: =+J$6 -> 0
C26: 高浜･野母･脇岬 AMYN | D26: 1120 | E26: =ROUND(F26*D26/100,-1) -> 0 | F26: =+F$6 -> 0
C27: 野母AMN | E27: =ROUND(F27*D27/100,-1) -> 0 | F27: =+F$6 -> 0
C28: 脇岬AMYN | E28: =ROUND(F28*D28/100,-1) -> 0 | F28: =+F$6 -> 0
C29: ★高島AMYN | D29: 40 | E29: =ROUND(F29*D29/100,-1) -> 0 | F29: =+F$6 -> 0 | G29: (PS)★高島 | H29: 50 | I29: =IF(+J29>0,+H29,0) -> 0 | J29: =+J$6 -> 0
C30: 伊王島AMYN | D30: 110 | E30: =ROUND(F30*D30/100,-1) -> 0 | F30: =+F$6 -> 0
B31: 長崎市(北部地区) | C31: 小榊AMNK | D31: 960 | E31: =ROUND(F31*D31/100,-1) -> 0 | F31: =+F$6 -> 0 | G31: (PS)小榊 | H31: 50 | I31: =IF(+J31>0,+H31,0) -> 0 | J31: =+J$6 -> 0 | R31: =+R$6 -> 0 | S31: 稲佐･小江原 | T31: 550 | U31: =ROUND(V31*T31/100,-1) -> 0 | V31: =+V$6 -> 0
C32: 福田東部AMNK | D32: 1330 | E32: =ROUND(F32*D32/100,-1) -> 0 | F32: =+F$6 -> 0 | G32: (PS)福田東部 | H32: 150 | I32: =IF(+J32>0,+H32,0) -> 0 | J32: =+J$6 -> 0 | R32: =+R$6 -> 0 | S32: 城山 | T32: 690 | U32: =ROUND(V32*T32/100,-1) -> 0 | V32: =+V$6 -> 0
C33: 稲佐AMNK | D33: 650 | E33: =ROUND(F33*D33/100,-1) -> 0 | F33: =+F$6 -> 0 | G33: ※(PS)稲佐-廃店202604 | I33: =IF(+J33>0,+H33,0) -> 0 | J33: =+J$6 -> 0 | O33: ※川平-長崎に統合202609 | R33: =+R$6 -> 0 | S33: 浦上K | T33: 360 | U33: =ROUND(V33*T33/100,-1) -> 0 | V33: =+V$6 -> 0
C34: 旭町AMNK | D34: 1280 | E34: =ROUND(F34*D34/100,-1) -> 0 | F34: =+F$6 -> 0 | G34: (PS)旭町 | H34: 50 | I34: =IF(+J34>0,+H34,0) -> 0 | J34: =+J$6 -> 0 | R34: =+R$6 -> 0 | S34: 西町 | T34: 380 | U34: =ROUND(V34*T34/100,-1) -> 0 | V34: =+V$6 -> 0
C35: 城山AMNK | D35: 1010 | E35: =ROUND(F35*D35/100,-1) -> 0 | F35: =+F$6 -> 0 | Q35: =ROUND(R35*P35/100,-1) -> 0 | S35: 住吉K | T35: 380 | U35: =ROUND(V35*T35/100,-1) -> 0 | V35: =+V$6 -> 0
C36: 城栄AMNSK | D36: 3940 | E36: =ROUND(F36*D36/100,-1) -> 0 | F36: =+F$6 -> 0 | G36: (PS)城栄 | H36: 50 | I36: =IF(+J36>0,+H36,0) -> 0 | J36: =+J$6 -> 0 | Q36: =ROUND(R36*P36/100,-1) -> 0 | S36: 三原･女の都K | T36: 450 | U36: =ROUND(V36*T36/100,-1) -> 0 | V36: =+V$6 -> 0
C37: 赤迫･西町AMNK | D37: 3040 | E37: =ROUND(F37*D37/100,-1) -> 0 | F37: =+F$6 -> 0 | G37: (PS)赤迫･西町 | H37: 400 | I37: =IF(+J37>0,+H37,0) -> 0 | J37: =+J$6 -> 0 | S37: 滑石ANK | T37: 1500 | U37: =ROUND(V37*T37/100,-1) -> 0 | V37: =+V$6 -> 0
C38: 浦上駅前AMNSK | D38: 1880 | E38: =ROUND(F38*D38/100,-1) -> 0 | F38: =+F$6 -> 0 | G38: (PS)浦上駅前 | H38: 200 | I38: =IF(+J38>0,+H38,0) -> 0 | J38: =+J$6 -> 0 | S38: 北部AN | T38: 430 | U38: =ROUND(V38*T38/100,-1) -> 0 | V38: =+V$6 -> 0
C39: 大手AMNSK | D39: 1030 | E39: =ROUND(F39*D39/100,-1) -> 0 | F39: =+F$6 -> 0 | G39: (PS)大手 | H39: 50 | I39: =IF(+J39>0,+H39,0) -> 0 | J39: =+J$6 -> 0 | U39: =ROUND(V39*T39/100,-1) -> 0
C40: 川平AMNSK | D40: 1870 | E40: =ROUND(F40*D40/100,-1) -> 0 | F40: =+F$6 -> 0 | G40: (PS)川平 | H40: 50 | I40: =IF(+J40>0,+H40,0) -> 0 | J40: =+J$6 -> 0 | U40: =ROUND(V40*T40/100,-1) -> 0
C41: 住吉AMNSK | D41: 4950 | E41: =ROUND(F41*D41/100,-1) -> 0 | F41: =+F$6 -> 0 | G41: (PS)住吉 | H41: 500 | I41: =IF(+J41>0,+H41,0) -> 0 | J41: =+J$6 -> 0 | U41: =ROUND(V41*T41/100,-1) -> 0
C42: 道の尾・滑石AMNSK | D42: 3410 | E42: =ROUND(F42*D42/100,-1) -> 0 | F42: =+F$6 -> 0 | G42: (PS)道の尾・滑石 | H42: 300 | I42: =IF(+J42>0,+H42,0) -> 0 | J42: =+J$6 -> 0 | Q42: =ROUND(R42*P42/100,-1) -> 0 | U42: =ROUND(V42*T42/100,-1) -> 0
C43: 滑石西部MS | D43: 1640 | E43: =ROUND(F43*D43/100,-1) -> 0 | F43: =+F$6 -> 0 | G43: (PS)滑石西部 | H43: 100 | I43: =IF(+J43>0,+H43,0) -> 0 | J43: =+J$6 -> 0 | Q43: =ROUND(R43*P43/100,-1) -> 0 | U43: =ROUND(V43*T43/100,-1) -> 0
C44: 新港AMYNK | D44: 3310 | E44: =ROUND(F44*D44/100,-1) -> 0 | F44: =+F$6 -> 0 | G44: (PS)新港 | H44: 100 | I44: =IF(+J44>0,+H44,0) -> 0 | J44: =+J$6 -> 0 | U44: =ROUND(V44*T44/100,-1) -> 0
C45: 式見AMYN | D45: 630 | E45: =ROUND(F45*D45/100,-1) -> 0 | F45: =+F$6 -> 0 | G45: (PS)式見 | H45: 50 | I45: =IF(+J45>0,+H45,0) -> 0 | J45: =+J$6 -> 0 | U45: =ROUND(V45*T45/100,-1) -> 0
C46: 福田西部AMYNK | D46: 340 | E46: =ROUND(F46*D46/100,-1) -> 0 | F46: =+F$6 -> 0 | G46: (PS)福田西部 | H46: 30 | I46: =IF(+J46>0,+H46,0) -> 0 | J46: =+J$6 -> 0 | U46: =ROUND(V46*T46/100,-1) -> 0
B47: 琴海 | C47: 村松AMK | D47: 1090 | E47: =ROUND(F47*D47/100,-1) -> 0 | F47: =+F$6 -> 0 | G47: (PS)村松 | H47: 100 | I47: =IF(+J47>0,+H47,0) -> 0 | J47: =+J$6 -> 0 | U47: =ROUND(V47*T47/100,-1) -> 0
C48: 長浦AMNK | D48: 590 | E48: =ROUND(F48*D48/100,-1) -> 0 | F48: =+F$6 -> 0 | U48: =ROUND(V48*T48/100,-1) -> 0
B49: 外海 | C49: ※黒崎･神浦-新港に統合202608 | F49: =+F$6 -> 0 | U49: =ROUND(V49*T49/100,-1) -> 0
C50: ★池島MN | D50: 20 | E50: =ROUND(F50*D50/100,-1) -> 0 | F50: =+F$6 -> 0 | U50: =ROUND(V50*T50/100,-1) -> 0
B51: 東長崎 | C51: 矢上南AMNK | D51: 1230 | E51: =ROUND(F51*D51/100,-1) -> 0 | F51: =+F$6 -> 0 | G51: (PS)矢上南 | H51: 50 | I51: =IF(+J51>0,+H51,0) -> 0 | J51: =+J$6 -> 0 | U51: =ROUND(V51*T51/100,-1) -> 0
C52: 矢上AMNSK | D52: 3830 | E52: =ROUND(F52*D52/100,-1) -> 0 | F52: =+F$6 -> 0 | G52: (PS)矢上 | H52: 50 | I52: =IF(+J52>0,+H52,0) -> 0 | J52: =+J$6 -> 0 | U52: =ROUND(V52*T52/100,-1) -> 0
C53: 東長崎AMNK | D53: 1200 | E53: =ROUND(F53*D53/100,-1) -> 0 | F53: =+F$6 -> 0 | G53: (PS)東長崎 | H53: 500 | I53: =IF(+J53>0,+H53,0) -> 0 | J53: =+J$6 -> 0 | S53: 矢上 | T53: 460 | U53: =ROUND(V53*T53/100,-1) -> 0 | V53: =+V$6 -> 0
C54: 古賀･つつじヶ丘団地AMNK | D54: 1300 | E54: =ROUND(F54*D54/100,-1) -> 0 | F54: =+F$6 -> 0 | G54: (PS)古賀･つつじヶ丘団地 | H54: 50 | I54: =IF(+J54>0,+H54,0) -> 0 | J54: =+J$6 -> 0 | S54: 日見 | T54: 170 | U54: =ROUND(V54*T54/100,-1) -> 0 | V54: =+V$6 -> 0 | Y54: =ROUND(Z54*X54/100,-1) -> 0
B55: =+D55+L55+P55+T55+X55+H55 -> 86760 | C55: 合計 | D55: =SUBTOTAL(9,D7:D54) -> 71070 | E55: =SUBTOTAL(9,E7:E54) -> 0 | G55: 合計 | H55: =SUBTOTAL(9,H7:H54) -> 4590 | I55: =SUBTOTAL(9,I7:I54) -> 0 | K55: 合計 | L55: =SUBTOTAL(9,L7:L54) -> 0 | M55: =SUBTOTAL(9,M7:M54) -> 0 | O55: 合計 | P55: =SUBTOTAL(9,P7:P54) -> 2140 | Q55: =SUBTOTAL(9,Q7:Q54) -> 0 | S55: 合計 | T55: =SUBTOTAL(9,T7:T54) -> 8960 | U55: =SUBTOTAL(9,U7:U54) -> 0 | W55: 合計 | X55: =SUBTOTAL(9,X7:X54) -> 0 | Y55: =SUBTOTAL(9,Y7:Y54) -> 0
B56: =+$C$1 -> 0 | C56: =IF(E62+I62+M62+Q62+U62+Y62>0,"西彼杵郡 " & TEXT(E62+I62+M62+Q62+U62+Y62,"#,###,###枚"),"西彼杵郡") -> 西彼杵郡 | F56: =+$B$56 -> 0 | J56: =+$B$56 -> 0 | R56: =+$B$56 -> 0 | V56: =+$B$56 -> 0
B57: 西彼杵郡 | C57: 長与AMNSK | D57: 2100 | E57: =ROUND(F57*D57/100,-1) -> 0 | F57: =+F$56 -> 0 | G57: (PS)長与 | H57: 100 | I57: =IF(+J57>0,+H57,0) -> 0 | J57: =+J$56 -> 0 | M57: =ROUND(N57*L57/100,-1) -> 0 | O57: ※長与-長崎と統合202512 | R57: =+R$56 -> 0 | S57: 長与K | T57: 720 | U57: =ROUND(V57*T57/100,-1) -> 0 | V57: =+V56 -> 0 | Y57: =ROUND(Z57*X57/100,-1) -> 0
C58: 長与南AMNSK | D58: 2940 | E58: =ROUND(F58*D58/100,-1) -> 0 | F58: =+F$56 -> 0 | G58: (PS)長与南 | H58: 50 | I58: =IF(+J58>0,+H58,0) -> 0 | J58: =+J$56 -> 0 | M58: =ROUND(N58*L58/100,-1) -> 0 | Q58: =ROUND(R58*P58/100,-1) -> 0 | U58: =ROUND(V58*T58/100,-1) -> 0 | Y58: =ROUND(Z58*X58/100,-1) -> 0
C59: 長与高田AMNK | D59: 1660 | E59: =ROUND(F59*D59/100,-1) -> 0 | F59: =+F$56 -> 0 | G59: (PS)長与高田 | H59: 50 | I59: =IF(+J59>0,+H59,0) -> 0 | J59: =+J$56 -> 0 | M59: =ROUND(N59*L59/100,-1) -> 0 | Q59: =ROUND(R59*P59/100,-1) -> 0 | U59: =ROUND(V59*T59/100,-1) -> 0 | Y59: =ROUND(Z59*X59/100,-1) -> 0
C60: 時津 | D60: 2100 | E60: =ROUND(F60*D60/100,-1) -> 0 | F60: =+F$56 -> 0 | G60: (PS)時津 | H60: 200 | I60: =IF(+J60>0,+H60,0) -> 0 | J60: =+J$56 -> 0 | S60: 時津N | T60: 970 | U60: =ROUND(V60*T60/100,-1) -> 0 | V60: =+V56 -> 0 | Y60: =ROUND(Z60*X60/100,-1) -> 0
C61: 時津中央AMNSK | D61: 2400 | E61: =ROUND(F61*D61/100,-1) -> 0 | F61: =+F$56 -> 0 | G61: (PS)時津中央 | H61: 300 | I61: =IF(+J61>0,+H61,0) -> 0 | J61: =+J$56 -> 0
B62: =+D62+L62+P62+T62+X62+H62 -> 13590 | C62: 合計 | D62: =SUBTOTAL(9,D57:D61) -> 11200 | E62: =SUBTOTAL(9,E57:E61) -> 0 | G62: 合計 | H62: =SUBTOTAL(9,H57:H61) -> 700 | I62: =SUBTOTAL(9,I57:I61) -> 0 | K62: 合計 | O62: 合計 | P62: =SUBTOTAL(9,P57:P61) -> 0 | Q62: =SUBTOTAL(9,Q57:Q61) -> 0 | S62: 合計 | T62: =SUBTOTAL(9,T57:T61) -> 1690 | U62: =SUBTOTAL(9,U57:U61) -> 0 | W62: 合計 | Y62: =SUBTOTAL(9,Y57:Y61) -> 0
B63: =+$C$1 -> 0 | C63: =IF(+E69+M69+Q69+U69+Y69>0,"西海市 " & TEXT(+E69+M69+Q69+U69+Y69,"#,###,###枚"),"西海市") -> 西海市 | F63: =+$B$63 -> 0 | N63: =+$B$63 -> 0 | V63: =+$B$63 -> 0 | Z63: =+$B$63 -> 0
B64: 西海市 | C64: 大瀬戸AMYNK | D64: 1210 | E64: =ROUND(F64*D64/100,-1) -> 0 | F64: =+F$63 -> 0
C65: ★松島 | D65: 110 | E65: =ROUND(F65*D65/100,-1) -> 0 | F65: =+F$63 -> 0 | Y65: =ROUND(Z65*X65/100,-1) -> 0
C66: 西海西部AMN | D66: 1070 | E66: =ROUND(F66*D66/100,-1) -> 0 | F66: =+F$63 -> 0 | T66: 0 | U66: =ROUND(V66*T66/100,-1) -> 0 | Y66: =ROUND(Z66*X66/100,-1) -> 0
C67: 西海AMYNK | D67: 1310 | E67: =ROUND(F67*D67/100,-1) -> 0 | F67: =+F$63 -> 0 | W67: 西海K | X67: 50 | Y67: =ROUND(Z67*X67/100,-1) -> 0 | Z67: =+Z$63 -> 0
C68: 琴海北部AMYNSK | D68: 1240 | E68: =ROUND(F68*D68/100,-1) -> 0 | F68: =+F$63 -> 0 | N68: =+N$63 -> 0 | U68: =ROUND(V68*T68/100,-1) -> 0
B69: =+D69+L69+P69+T69+X69 -> 4990 | C69: 合計 | D69: =SUBTOTAL(9,D64:D68) -> 4940 | E69: =SUBTOTAL(9,E64:E68) -> 0 | G69: 合計 | K69: 合計 | L69: =SUBTOTAL(9,L64:L68) -> 0 | M69: =SUBTOTAL(9,M64:M68) -> 0 | O69: 合計 | S69: 合計 | T69: =SUBTOTAL(9,T64:T68) -> 0 | U69: =SUBTOTAL(9,U64:U68) -> 0 | W69: 合計 | X69: =SUBTOTAL(9,X64:X68) -> 50 | Y69: =SUBTOTAL(9,Y64:Y68) -> 0
B70: =+$C$1 -> 0 | C70: =IF(E79+M79+Q79+U79+Y79+I79>0,"諫早市 " & TEXT(E79+M79+Q79+U79+Y79+I79,"#,###,###枚"),"諫早市") -> 諫早市 | F70: =+$B$70 -> 0 | J70: =+$B$70 -> 0 | N70: =+$B$70 -> 0 | R70: =+$B$70 -> 0 | V70: =+$B$70 -> 0 | Z70: =+$B$70 -> 0
B71: 諌早市 | C71: 本諌早 | D71: 3640 | E71: =ROUND(F71*D71/100,-1) -> 0 | F71: =+F70 -> 0 | K71: 諫早東部 | L71: 290 | M71: =ROUND(N71*L71/100,-1) -> 0 | N71: =+N$70 -> 0 | Q71: =ROUND(R71*P71/100,-1) -> 0 | S71: 諫早中央MNK | T71: 1150 | U71: =ROUND(V71*T71/100,-1) -> 0 | V71: =+V$70 -> 0
C72: 北諌早M | D72: 3550 | E72: =ROUND(F72*D72/100,-1) -> 0 | F72: =+F$70 -> 0 | Q72: =ROUND(R72*P72/100,-1) -> 0 | S72: ※諫早西-西日本と統合202607 | W72: 諫早西AMYSK | X72: 1420 | Y72: =ROUND(Z72*X72/100,-1) -> 0 | Z72: =+Z$70 -> 0
C73: 西諌早K | D73: 4070 | E73: =ROUND(F73*D73/100,-1) -> 0 | F73: =+F$70 -> 0 | G73: (PS)西諌早 | H73: 200 | I73: =IF(+J73>0,+H73,0) -> 0 | J73: =+J$70 -> 0 | K73: ※西諌早-毎日･諫早西部と統合202607 | N73: =+N$70 -> 0 | O73: 諫早西部ANSK | P73: 2040 | Q73: =ROUND(R73*P73/100,-1) -> 0 | R73: =+R$70 -> 0 | S73: ※諫早南-西日本と統合202607 | W73: 諫早南AMYK | X73: 820 | Y73: =ROUND(Z73*X73/100,-1) -> 0 | Z73: =+Z$70 -> 0
C74: 諌早インターK | D74: 540 | E74: =ROUND(F74*D74/100,-1) -> 0 | F74: =+F$70 -> 0 | G74: (PS)諌早インター | H74: 50 | I74: =IF(+J74>0,+H74,0) -> 0 | J74: =+J$70 -> 0 | Q74: =ROUND(R74*P74/100,-1) -> 0 | S74: 諫早北AMNSK | T74: 1720 | U74: =ROUND(V74*T74/100,-1) -> 0 | V74: =+V$70 -> 0
C75: 南諫早 | D75: 740 | E75: =ROUND(F75*D75/100,-1) -> 0 | F75: =+F$70 -> 0 | H75: 0 | I75: =ROUND(K75*H75/100,-1) -> 0 | L75: 0 | M75: =ROUND(N75*L75/100,-1) -> 0 | Q75: =ROUND(R75*P75/100,-1) -> 0 | U75: =ROUND(V75*T75/100,-1) -> 0 | W75: ※西諫早-毎日･諫早西部と統合202607
C76: 高来AMYNSK | D76: 2940 | E76: =ROUND(F76*D76/100,-1) -> 0 | F76: =+F$70 -> 0 | I76: =ROUND(K76*H76/100,-1) -> 0 | M76: =ROUND(N76*L76/100,-1) -> 0 | Q76: =ROUND(R76*P76/100,-1) -> 0 | U76: =ROUND(V76*T76/100,-1) -> 0 | W76: ※飯盛-毎日･喜々津と統合202607
C77: 喜々津ANK | D77: 2290 | E77: =ROUND(F77*D77/100,-1) -> 0 | F77: =+F$70 -> 0 | I77: =ROUND(K77*H77/100,-1) -> 0 | M77: =ROUND(N77*L77/100,-1) -> 0 | Q77: =ROUND(R77*P77/100,-1) -> 0 | U77: =ROUND(V77*T77/100,-1) -> 0 | Y77: =ROUND(Z77*X77/100,-1) -> 0
C78: 大草AMN | D78: 450 | E78: =ROUND(F78*D78/100,-1) -> 0 | F78: =+F$70 -> 0 | O78: 喜々津･飯盛ANK | P78: 660 | Q78: =ROUND(R78*P78/100,-1) -> 0 | R78: =+R$70 -> 0 | S78: 喜々津 | T78: 880 | U78: =ROUND(V78*T78/100,-1) -> 0 | V78: =+V$70 -> 0
B79: =+D79+L79+P79+T79+X79+H79 -> 27450 | C79: 合計 | D79: =SUBTOTAL(9,D71:D78) -> 18220 | E79: =SUBTOTAL(9,E71:E78) -> 0 | G79: 合計 | H79: =SUBTOTAL(9,H71:H78) -> 250 | I79: =SUBTOTAL(9,I71:I78) -> 0 | K79: 合計 | L79: =SUBTOTAL(9,L71:L78) -> 290 | M79: =SUBTOTAL(9,M71:M78) -> 0 | O79: 合計 | P79: =SUBTOTAL(9,P71:P78) -> 2700 | Q79: =SUBTOTAL(9,Q71:Q78) -> 0 | S79: 合計 | T79: =SUBTOTAL(9,T71:T78) -> 3750 | U79: =SUBTOTAL(9,U71:U78) -> 0 | W79: 合計 | X79: =SUBTOTAL(9,X71:X78) -> 2240 | Y79: =SUBTOTAL(9,Y71:Y78) -> 0
B80: =+$C$1 -> 0 | C80: =IF(E85+M85+Q85+U85+Y85>0,"島原市 " & TEXT(E85+M85+Q85+U85+Y85,"#,###,###枚"),"島原市") -> 島原市 | F80: =+B80 -> 0 | N80: =+B80 -> 0 | R80: =+B80 -> 0 | V80: =+B80 -> 0 | Z80: =+B80 -> 0
B81: 島原市 | C81: 島原 | D81: 1880 | E81: =ROUND(F81*D81/100,-1) -> 0 | F81: =+F$80 -> 0 | K81: 島原北部 | L81: 240 | M81: =ROUND(N81*L81/100,-1) -> 0 | N81: =+N$80 -> 0 | O81: 島原北部S | P81: 160 | Q81: =ROUND(R81*P81/100,-1) -> 0 | R81: =+R$80 -> 0 | S81: 島原 | T81: 280 | U81: =ROUND(V81*T81/100,-1) -> 0 | V81: =+V$80 -> 0 | W81: 島原北部K | X81: 630 | Y81: =ROUND(Z81*X81/100,-1) -> 0 | Z81: =+Z$80 -> 0
C82: 島原外港 | D82: 1300 | E82: =ROUND(F82*D82/100,-1) -> 0 | F82: =+F$80 -> 0 | K82: 島原南部 | L82: 150 | M82: =ROUND(N82*L82/100,-1) -> 0 | N82: =+N$80 -> 0 | O82: 島原南部 | P82: 460 | Q82: =ROUND(R82*P82/100,-1) -> 0 | R82: =+R$80 -> 0 | W82: 島原南部K | X82: 650 | Y82: =ROUND(Z82*X82/100,-1) -> 0 | Z82: =+Z$80 -> 0
C83: 島原松尾AMYNK | D83: 1160 | E83: =ROUND(F83*D83/100,-1) -> 0 | F83: =+F$80 -> 0
C84: 大三東AMYNK | D84: 540 | E84: =ROUND(F84*D84/100,-1) -> 0 | F84: =+F$80 -> 0
B85: =+D85+L85+P85+T85+X85 -> 7450 | C85: 合計 | D85: =SUBTOTAL(9,D81:D84) -> 4880 | E85: =SUBTOTAL(9,E81:E84) -> 0 | G85: 合計 | K85: 合計 | L85: =SUBTOTAL(9,L81:L84) -> 390 | M85: =SUBTOTAL(9,M81:M84) -> 0 | O85: 合計 | P85: =SUBTOTAL(9,P81:P84) -> 620 | Q85: =SUBTOTAL(9,Q81:Q84) -> 0 | S85: 合計 | T85: =SUBTOTAL(9,T81:T84) -> 280 | U85: =SUBTOTAL(9,U81:U84) -> 0 | W85: 合計 | X85: =SUBTOTAL(9,X81:X84) -> 1280 | Y85: =SUBTOTAL(9,Y81:Y84) -> 0
B86: =+$C$1 -> 0 | C86: =IF(E97+M97+Q97+U97+Y97>0,"雲仙市 " & TEXT(E97+M97+Q97+U97+Y97,"#,###,###枚"),"雲仙市") -> 雲仙市 | F86: =+B86 -> 0
B87: 雲仙市 | C87: 多比良AMNYK | D87: 1680 | E87: =ROUND(F87*D87/100,-1) -> 0 | F87: =+F$86 -> 0
C88: 神代AMYNK | D88: 630 | E88: =ROUND(F88*D88/100,-1) -> 0 | F88: =+F$86 -> 0
C89: 西郷AMYNK | D89: 740 | E89: =ROUND(F89*D89/100,-1) -> 0 | F89: =+F$86 -> 0
C90: 吾妻AMYNK | D90: 1430 | E90: =ROUND(F90*D90/100,-1) -> 0 | F90: =+F$86 -> 0
C91: 愛野AMNYSK | D91: 1380 | E91: =ROUND(F91*D91/100,-1) -> 0 | F91: =+F$86 -> 0
C92: 千々石AMYN | D92: 770 | E92: =ROUND(F92*D92/100,-1) -> 0 | F92: =+F$86 -> 0
C93: 小浜AMYNK | D93: 1210 | E93: =ROUND(F93*D93/100,-1) -> 0 | F93: =+F$86 -> 0
C94: 雲仙AMNK | D94: 80 | E94: =ROUND(F94*D94/100,-1) -> 0 | F94: =+F$86 -> 0
C95: 北串山AM | D95: 200 | E95: =ROUND(F95*D95/100,-1) -> 0 | F95: =+F$86 -> 0
C96: 南串山AMNSK | D96: 660 | E96: =ROUND(F96*D96/100,-1) -> 0 | F96: =+F$86 -> 0
B97: =+D97+L97+P97+T97+X97 -> 8780 | C97: 合計 | D97: =SUBTOTAL(9,D87:D96) -> 8780 | E97: =SUBTOTAL(9,E87:E96) -> 0 | G97: 合計 | K97: 合計 | O97: 合計 | S97: 合計 | T97: =SUBTOTAL(9,T87:T96) -> 0 | U97: =SUBTOTAL(9,U87:U96) -> 0 | W97: 合計 | X97: =SUBTOTAL(9,X87:X96) -> 0 | Y97: =SUBTOTAL(9,Y87:Y96) -> 0
B98: =+$C$1 -> 0 | C98: =IF(E105+M105+Q105+U105+Y105>0,"南島原市 " & TEXT(E105+M105+Q105+U105+Y105,"#,###,###枚"),"南島原市") -> 南島原市 | F98: =+B98 -> 0 | N98: =+B98 -> 0 | R98: =+B98 -> 0 | V98: =+B98 -> 0 | Z98: =+B98 -> 0
B99: 南島原市 | C99: 加津佐A | D99: 880 | E99: =ROUND(F99*D99/100,-1) -> 0 | F99: =+F$98 -> 0 | S99: 加津佐A | T99: 310 | U99: =ROUND(V99*T99/100,-1) -> 0 | V99: =+V$98 -> 0
C100: 口ノ津 | D100: 770 | E100: =ROUND(F100*D100/100,-1) -> 0 | F100: =+F$98 -> 0 | N100: =+N$98 -> 0 | W100: 口加MSK | X100: 360 | Y100: =ROUND(Z100*X100/100,-1) -> 0 | Z100: =+Z$98 -> 0
C101: 有馬AMNYK | D101: 1850 | E101: =ROUND(F101*D101/100,-1) -> 0 | F101: =+F$98 -> 0
...
