Workbook
Name OLE_LINK1: 部数表!$C$184

Sheet 市郡別一覧
B2: 長崎県市郡別一覧表
C3: 地区＼新聞 | E3: 長崎新聞 | F3: Nポス | G3: 朝日新聞 | H3: 毎日新聞 | I3: 読売新聞 | J3: 西日本新聞 | K3: 合計
B4: 諫早本社 分納可能地区 | C4: 長崎市 | E4: 71070 | F4: 4590 | G4: 0 | H4: 2140 | I4: 8960 | J4: 0 | K4: =SUM(E4:J4) -> 86760
E5: =IF(ISERROR(+部数表!E55),0,+部数表!E55) -> 0 | F5: =IF(ISERROR(+部数表!I55),0,+部数表!I55) -> 0 | G5: =IF(ISERROR(+部数表!M55),0,+部数表!M55) -> 0 | H5: =IF(ISERROR(+部数表!Q55),0,+部数表!Q55) -> 0 | I5: =IF(ISERROR(+部数表!U55),0,+部数表!U55) -> 0 | J5: =IF(ISERROR(+部数表!Y55),0,+部数表!Y55) -> 0 | K5: =SUM(E5:J5) -> 0
C6: 西彼杵郡 | E6: 11200 | F6: 700 | G6: 0 | H6: 0 | I6: 1690 | J6: 0 | K6: =SUM(E6:J6) -> 13590
C7: (長与･時津) | E7: =IF(ISERROR(+部数表!E62),0,+部数表!E62) -> 0 | F7: =IF(ISERROR(+部数表!I62),0,+部数表!I62) -> 0 | G7: =IF(ISERROR(+部数表!M62),0,+部数表!M62) -> 0 | H7: =IF(ISERROR(+部数表!Q62),0,+部数表!Q62) -> 0 | I7: =IF(ISERROR(+部数表!U62),0,+部数表!U62) -> 0 | J7: =IF(ISERROR(+部数表!Y62),0,+部数表!Y62) -> 0 | K7: =SUM(E7:J7) -> 0
C8: 西海市 | E8: 4940 | G8: 0 | I8: 0 | J8: 50 | K8: =SUM(E8:J8) -> 4990
E9: =IF(ISERROR(+部数表!E69),0,+部数表!E69) -> 0 | G9: =IF(ISERROR(+部数表!M69),0,+部数表!M69) -> 0 | I9: =IF(ISERROR(+部数表!U69),0,+部数表!U69) -> 0 | J9: =IF(ISERROR(+部数表!Y69),0,+部数表!Y69) -> 0 | K9: =SUM(E9:J9) -> 0
C10: 諫早市 | E10: 18220 | F10: 250 | G10: 290 | H10: 2700 | I10: 3750 | J10: 2240 | K10: =SUM(E10:J10) -> 27450
E11: =IF(ISERROR(+部数表!E79),0,+部数表!E79) -> 0 | F11: =IF(ISERROR(+部数表!I79),0,+部数表!I79) -> 0 | G11: =IF(ISERROR(+部数表!M79),0,+部数表!M79) -> 0 | H11: =IF(ISERROR(+部数表!Q79),0,+部数表!Q79) -> 0 | I11: =IF(ISERROR(+部数表!U79),0,+部数表!U79) -> 0 | J11: =IF(ISERROR(+部数表!Y79),0,+部数表!Y79) -> 0 | K11: =SUM(E11:J11) -> 0
C12: 島原市 | E12: 4880 | G12: 390 | H12: 620 | I12: 280 | J12: 1280 | K12: =SUM(E12:J12) -> 7450
E13: =IF(ISERROR(+部数表!E85),0,+部数表!E85) -> 0 | G13: =IF(ISERROR(+部数表!M85),0,+部数表!M85) -> 0 | H13: =IF(ISERROR(+部数表!Q85),0,+部数表!Q85) -> 0 | I13: =IF(ISERROR(+部数表!U85),0,+部数表!U85) -> 0 | J13: =IF(ISERROR(+部数表!Y85),0,+部数表!Y85) -> 0 | K13: =SUM(E13:J13) -> 0
C14: 雲仙市 | E14: 8780 | G14: 0 | H14: 0 | K14: =SUM(E14:J14) -> 8780
E15: =IF(ISERROR(+部数表!E97),0,+部数表!E97) -> 0 | H15: =IF(ISERROR(+部数表!Q97),0,+部数表!Q97) -> 0 | I15: =IF(ISERROR(+部数表!U97),0,+部数表!U97) -> 0 | J15: =IF(ISERROR(+部数表!Y97),0,+部数表!Y97) -> 0 | K15: =SUM(E15:J15) -> 0
C16: 南島原市 | E16: 7180 | G16: 0 | H16: 70 | I16: 310 | J16: 720 | K16: =SUM(E16:J16) -> 8280
E17: =IF(ISERROR(+部数表!E105),0,+部数表!E105) -> 0 | G17: =IF(ISERROR(+部数表!M105),0,+部数表!M105) -> 0 | H17: =IF(ISERROR(+部数表!Q105),0,+部数表!Q105) -> 0 | I17: =IF(ISERROR(+部数表!U105),0,+部数表!U105) -> 0 | J17: =IF(ISERROR(+部数表!Y105),0,+部数表!Y105) -> 0 | K17: =SUM(E17:J17) -> 0
C18: 大村市 | E18: 9530 | F18: 100 | G18: 0 | H18: 390 | I18: 2050 | J18: 3180 | K18: =SUM(E18:J18) -> 15250
E19: =IF(ISERROR(+部数表!E113),0,+部数表!E113) -> 0 | F19: =IF(ISERROR(+部数表!I113),0,+部数表!I113) -> 0 | G19: =IF(ISERROR(+部数表!M113),0,+部数表!M113) -> 0 | H19: =IF(ISERROR(+部数表!Q113),0,+部数表!Q113) -> 0 | I19: =IF(ISERROR(+部数表!U113),0,+部数表!U113) -> 0 | J19: =IF(ISERROR(+部数表!Y113),0,+部数表!Y113) -> 0 | K19: =SUM(E19:J19) -> 0
C20: 東彼杵郡 | E20: 4470 | F20: 50 | G20: 0 | I20: 1980 | J20: 300 | K20: =SUM(E20:J20) -> 6800
E21: =IF(ISERROR(+部数表!E118),0,+部数表!E118) -> 0 | F21: =IF(ISERROR(+部数表!I118),0,+部数表!I118) -> 0 | I21: =IF(ISERROR(+部数表!U118),0,+部数表!U118) -> 0 | J21: =IF(ISERROR(+部数表!Y118),0,+部数表!Y118) -> 0 | K21: =SUM(E21:J21) -> 0
B22: 佐世保支社 | C22: 佐世保市 | E22: 17850 | F22: 1400 | G22: 0 | H22: 2270 | I22: 9870 | J22: 11050 | K22: =SUM(E22:J22) -> 42440
C23: ※旧北松(鹿町・江迎町含む) | E23: =IF(ISERROR(+部数表!E137),0,+部数表!E137) -> 0 | F23: =IF(ISERROR(+部数表!I137),0,+部数表!I137) -> 0 | G23: =IF(ISERROR(+部数表!M137),0,+部数表!M137) -> 0 | H23: =IF(ISERROR(+部数表!Q137),0,+部数表!Q137) -> 0 | I23: =IF(ISERROR(+部数表!U137),0,+部数表!U137) -> 0 | J23: =IF(ISERROR(+部数表!Y137),0,+部数表!Y137) -> 0 | K23: =SUM(E23:J23) -> 0
C24: 北松浦郡 | E24: 2100 | H24: 0 | I24: 610 | K24: =SUM(E24:J24) -> 2710
E25: =IF(ISERROR(+部数表!E141),0,+部数表!E141) -> 0 | I25: =IF(ISERROR(+部数表!U141),0,+部数表!U141) -> 0 | J25: =IF(ISERROR(+部数表!Y141),0,+部数表!Y141) -> 0 | K25: =SUM(E25:J25) -> 0
C26: 松浦市 | E26: 2970 | G26: 0 | I26: 940 | K26: =SUM(E26:J26) -> 3910
E27: =IF(ISERROR(+部数表!E154),0,+部数表!E154) -> 0 | I27: =IF(ISERROR(+部数表!U154),0,+部数表!U154) -> 0 | J27: =IF(ISERROR(+部数表!Y154),0,+部数表!Y154) -> 0 | K27: =SUM(E27:J27) -> 0
C28: 平戸市 | E28: 4450 | G28: 0 | H28: 0 | I28: 210 | K28: =SUM(E28:J28) -> 4660
E29: =IF(ISERROR(+部数表!E146),0,+部数表!E146) -> 0 | G29: =IF(ISERROR(+部数表!M146),0,+部数表!M146) -> 0 | H29: =IF(ISERROR(+部数表!Q146),0,+部数表!Q146) -> 0 | I29: =IF(ISERROR(+部数表!U146),0,+部数表!U146) -> 0 | J29: =IF(ISERROR(+部数表!Y146),0,+部数表!Y146) -> 0 | K29: =SUM(E29:J29) -> 0
B30: 諫早本社 分納可能地区 | C30: 五島市☆ | E30: 5970 | G30: 230 | H30: 0 | I30: 110 | J30: 20 | K30: =SUM(E30:J30) -> 6330
E31: =IF(ISERROR(+部数表!E164),0,+部数表!E164) -> 0 | G31: =IF(ISERROR(+部数表!M164),0,+部数表!M164) -> 0 | H31: =IF(ISERROR(+部数表!Q164),0,+部数表!Q164) -> 0 | I31: =IF(ISERROR(+部数表!U164),0,+部数表!U164) -> 0 | J31: =IF(ISERROR(+部数表!Y164),0,+部数表!Y164) -> 0 | K31: =SUM(E31:J31) -> 0
C32: 南松浦郡 新上五島町☆ | E32: 2210 | H32: 0 | I32: 0 | K32: =SUM(E32:J32) -> 2210
E33: =IF(ISERROR(+部数表!E173),0,+部数表!E173) -> 0 | G33: =IF(ISERROR(+部数表!M173),0,+部数表!M173) -> 0 | I33: =IF(ISERROR(+部数表!U173),0,+部数表!U173) -> 0 | J33: =IF(ISERROR(+部数表!Y173),0,+部数表!Y173) -> 0 | K33: =SUM(E33:J33) -> 0
C34: 壱岐市☆ | E34: 220 | H34: 20 | I34: 1260 | J34: 1200 | K34: =SUM(E34:J34) -> 2700
E35: =IF(ISERROR(+部数表!E177),0,+部数表!E177) -> 0 | H35: =IF(ISERROR(+部数表!Q177),0,+部数表!Q177) -> 0 | I35: =IF(ISERROR(+部数表!U177),0,+部数表!U177) -> 0 | J35: =IF(ISERROR(+部数表!Y177),0,+部数表!Y177) -> 0 | K35: =SUM(E35:J35) -> 0
C36: 対馬市☆ | E36: 1880 | I36: 0 | J36: 90 | K36: =SUM(E36:J36) -> 1970
E37: =IF(ISERROR(+部数表!E182),0,+部数表!E182) -> 0 | J37: =IF(ISERROR(+部数表!Y182),0,+部数表!Y182) -> 0 | K37: =SUM(E37:J37) -> 0
C38: 合計 | E38: =+E4+E6+E8+E10+E12+E16+E18+E22+E20+E24+E26+E28+E30+E32+E34+E36+E14 -> 177920 | F38: =+F4+F6+F8+F10+F12+F16+F18+F22+F20+F24+F26+F28+F30+F32+F34+F36+F14 -> 7090 | G38: =+G4+G6+G8+G10+G12+G16+G18+G22+G20+G24+G26+G28+G30+G32+G34+G36+G14 -> 910 | H38: =+H4+H6+H8+H10+H12+H16+H18+H22+H20+H24+H26+H28+H30+H32+H34+H36+H14 -> 8210 | I38: =+I4+I6+I8+I10+I12+I16+I18+I22+I20+I24+I26+I28+I30+I32+I34+I36+I14 -> 32020 | J38: =+J4+J6+J8+J10+J12+J16+J18+J22+J20+J24+J26+J28+J30+J32+J34+J36+J14 -> 20130 | K38: =SUM(E38:J38) -> 246280
C39: ☆離島地域 | E39: =+E5+E7+E9+E11+E13+E17+E19+E23+E21+E25+E27+E29+E31+E33+E35+E37+E15 -> 0 | F39: =+F5+F7+F9+F11+F13+F17+F19+F23+F21+F25+F27+F29+F31+F33+F35+F37+F15 -> 0 | G39: =+G5+G7+G9+G11+G13+G17+G19+G23+G21+G25+G27+G29+G31+G33+G35+G37+G15 -> 0 | H39: =+H5+H7+H9+H11+H13+H17+H19+H23+H21+H25+H27+H29+H31+H33+H35+H37+H15 -> 0 | I39: =+I5+I7+I9+I11+I13+I17+I19+I23+I21+I25+I27+I29+I31+I33+I35+I37+I15 -> 0 | J39: =+J5+J7+J9+J11+J13+J17+J19+J23+J21+J25+J27+J29+J31+J33+J35+J37+J15 -> 0 | K39: =SUM(E39:J39) -> 0
C40: ※日本経済新聞は地域によっては折り込みが出来ませんのでまえもってお問い合わせ下さい。必ずしも販売店区域と行政区域とは一致しているとは限りません。
C41: ※各新聞系列の販売店の中には複数の新聞取扱い店も含まれています。(媒体指定はできかねます。ご了承下さい） | I41: 分納(諫早/佐世保) | J41: =+K5+K7+K9+K11+K13+K15+K17+K19+K31+K33+K35+K37+K21 -> 0 | K41: =+K23+K25+K27+K29 -> 0
...

Sheet 部数表
C2: ・折込指定日 | D2: ・広告主 | L2: ・タイトル | S2: ・サイズ | T2: ・折込総枚数 | W2: ・請求先 | Y2: 担当者
T3: =+E4+M4+Q4+U4+Y4+I4 -> 0
C4: 長崎新聞 | E4: =SUBTOTAL(9,E7:E181) -> 0 | G4: Nポス(PS) ※火･金･土は以外は不可 | I4: =SUBTOTAL(9,I7:I181) -> 0 | K4: 朝日新聞(A) | M4: =SUBTOTAL(9,M7:M181) -> 0 | O4: 毎日新聞(M) | Q4: =SUBTOTAL(9,Q7:Q181) -> 0 | S4: 読売新聞(Y) | U4: =SUBTOTAL(9,U7:U181) -> 0 | W4: 西日本新聞(N) | Y4: =SUBTOTAL(9,Y7:Y181) -> 0
C5: 販売店名 | D5: 部数 | E5: 折込数 | F5: 割合 | G5: 販売店名 | H5: 部数 | I5: 折込数 | J5: 割合 | K5: 販売店名 | L5: 部数 | M5: 折込数 | N5: 割合 | O5: 販売店名 | P5: 部数 | Q5: 折込数 | R5: 割合 | S5: 販売店名 | T5: 部数 | U5: 折込数 | V5: 割合 | W5: 販売店名 | X5: 部数 | Y5: 折込数 | Z5: 割合
B6: =+$C$1 -> 0 | C6: =IF(E55+I55+M55+Q55+U55+Y55>0,"長崎市 " & TEXT(E55+I55+M55+Q55+U55+Y55,"#,###,###枚"),"長崎市") -> 長崎市 | F6: =+B6 -> 0 | J6: =+$B6 -> 0 | R6: =+B6 -> 0 | V6: =+B6 -> 0
B7: 長崎市(南部地区) | C7: 新大工AMNK | D7: 1560 | E7: =ROUND(F7*D7/100,-1) -> 0 | F7: =+F$6 -> 0 | G7: (PS)新大工 | H7: 120 | I7: =IF(+J7>0,+H7,0) -> 0 | J7: =+J$6 -> 0 | O7: 中央大浦S | P7: 1900 | Q7: =ROUND(R7*P7/100,-1) -> 0 | R7: =+R$6 -> 0 | S7: 中川K | T7: 350 | U7: =ROUND(V7*T7/100,-1) -> 0 | V7: =+V$6 -> 0
C8: 西山片淵AMNSK | D8: 1560 | E8: =ROUND(F8*D8/100,-1) -> 0 | F8: =+F$6 -> 0 | G8: (PS)西山片淵 | H8: 120 | I8: =IF(+J8>0,+H8,0) -> 0 | J8: =+J$6 -> 0 | S8: 西山K | T8: 810 | U8: =ROUND(V8*T8/100,-1) -> 0 | V8: =+V$6 -> 0
C9: 桜馬場AMNK | D9: 1510 | E9: =ROUND(F9*D9/100,-1) -> 0 | F9: =+F$6 -> 0 | G9: (PS)桜馬場 | H9: 120 | I9: =IF(+J9>0,+H9,0) -> 0 | J9: =+J$6 -> 0 | O9: 戸町S | P9: 240 | Q9: =ROUND(R9*P9/100,-1) -> 0 | R9: =+R$6 -> 0
C10: 立山桜町AMN | D10: 1570 | E10: =ROUND(F10*D10/100,-1) -> 0 | F10: =+F$6 -> 0 | G10: (PS)立山桜町 | H10: 50 | I10: =IF(+J10>0,+H10,0) -> 0 | J10: =+J$6 -> 0 | S10: 新戸町ANK | T10: 1610 | U10: =ROUND(V10*T10/100,-1) -> 0 | V10: =+V$6 -> 0
C11: 駅前AN | D11: 1330 | E11: =ROUND(F11*D11/100,-1) -> 0 | F11: =+F$6 -> 0 | G11: (PS)駅前 | H11: 50 | I11: =IF(+J11>0,+H11,0) -> 0 | J11: =+J$6 -> 0 | S11: 南長崎ANK | T11: 820 | U11: =ROUND(V11*T11/100,-1) -> 0 | V11: =+V$6 -> 0
C12: 宝町天神AMNS | D12: 1170 | E12: =ROUND(F12*D12/100,-1) -> 0 | F12: =+F$6 -> 0 | G12: (PS)宝町天神 | H12: 50 | I12: =IF(+J12>0,+H12,0) -> 0 | J12: =+J$6 -> 0
C13: 本河内AMNK | D13: 790 | E13: =ROUND(F13*D13/100,-1) -> 0 | F13: =+F$6 -> 0 | G13: (PS)本河内 | H13: 100 | I13: =IF(+J13>0,+H13,0) -> 0 | J13: =+J$6 -> 0
C14: 南が丘AMYNK | D14: 1020 | E14: =ROUND(F14*D14/100,-1) -> 0 | F14: =+F$6 -> 0 | G14: (PS)南が丘 | H14: 50 | I14: =IF(+J14>0,+H14,0) -> 0 | J14: =+J$6 -> 0
C15: 小島AMYNK | D15: 1410 | E15: =ROUND(F15*D15/100,-1) -> 0 | F15: =+F$6 -> 0 | G15: (PS)小島 | H15: 50 | I15: =IF(+J15>0,+H15,0) -> 0 | J15: =+J$6 -> 0 | Q15: =ROUND(R15*P15/100,-1) -> 0
C16: 田上AMYNSK | D16: 1710 | E16: =ROUND(F16*D16/100,-1) -> 0 | F16: =+F$6 -> 0 | G16: (PS)田上 | H16: 50 | I16: =IF(+J16>0,+H16,0) -> 0 | J16: =+J$6 -> 0
C17: 八幡･浜町AMNSK | D17: 2130 | E17: =ROUND(F17*D17/100,-1) -> 0 | F17: =+F$6 -> 0 | G17: (PS)八幡･浜町 | H17: 150 | I17: =IF(+J17>0,+H17,0) -> 0 | J17: =+J$6 -> 0
C18: 大浦ANSK | D18: 2090 | E18: =ROUND(F18*D18/100,-1) -> 0 | F18: =+F$6 -> 0 | G18: (PS)大浦 | H18: 50 | I18: =IF(+J18>0,+H18,0) -> 0 | J18: =+J$6 -> 0
C19: 戸町(出雲含む)MK | D19: 3540 | E19: =ROUND(F19*D19/100,-1) -> 0 | F19: =+F$6 -> 0 | G19: (PS)戸町 | H19: 500 | I19: =IF(+J19>0,+H19,0) -> 0 | J19: =+J$6 -> 0
C20: 深堀M | D20: 2520 | E20: =ROUND(F20*D20/100,-1) -> 0 | F20: =+F$6 -> 0 | G20: (PS)深堀･香焼 | H20: 150 | I20: =IF(+J20>0,+H20,0) -> 0 | J20: =+J$6 -> 0
C21: 平山M | D21: 1040 | E21: =ROUND(F21*D21/100,-1) -> 0 | F21: =+F$6 -> 0
C22: 茂木AMYNK | D22: 740 | E22: =ROUND(F22*D22/100,-1) -> 0 | F22: =+F$6 -> 0
C23: 日吉AMN | D23: 170 | E23: =ROUND(F23*D23/100,-1) -> 0 | F23: =+F$6 -> 0
B24: 野母半島 | C24: 香焼AMNK | D24: 770 | E24: =ROUND(F24*D24/100,-1) -> 0 | F24: =+F$6 -> 0 | G24: ※(PS)香焼-深堀に統合202604 | J24: =+J$6 -> 0
C25: 蚊焼AMNK | D25: 2640 | E25: =ROUND(F25*D25/100,-1) -> 0 | F25: =+F$6 -> 0 | G25: (PS)蚊焼･平山 | H25: 100 | I25: =IF(+J25>0,+H25,0) -> 0 | J25: =+J$6 -> 0
C26: 高浜･野母･脇岬 AMYN | D26: 1120 | E26: =ROUND(F26*D26/100,-1) -> 0 | F26: =+F$6 -> 0
C27: 野母AMN | E27: =ROUND(F27*D27/100,-1) -> 0 | F27: =+F$6 -> 0
C28: 脇岬AMYN | E28: =ROUND(F28*D28/100,-1) -> 0 | F28: =+F$6 -> 0
C29: ★高島AMYN | D29: 40 | E29: =ROUND(F29*D29/100,-1) -> 0 | F29: =+F$6 -> 0 | G29: (PS)★高島 | H29: 50 | I29: =IF(+J29>0,+H29,0) -> 0 | J29: =+J$6 -> 0
C30: 伊王島AMYN | D30: 110 | E30: =ROUND(F30*D30/100,-1) -> 0 | F30: =+F$6 -> 0
B31: 長崎市(北部地区) | C31: 小榊AMNK | D31: 960 | E31: =ROUND(F31*D31/100,-1) -> 0 | F31: =+F$6 -> 0 | G31: (PS)小榊 | H31: 50 | I31: =IF(+J31>0,+H31,0) -> 0 | J31: =+J$6 -> 0 | R31: =+R$6 -> 0 | S31: 稲佐･小江原 | T31: 550 | U31: =ROUND(V31*T31/100,-1) -> 0 | V31: =+V$6 -> 0
C32: 福田東部AMNK | D32: 1330 | E32: =ROUND(F32*D32/100,-1) -> 0 | F32: =+F$6 -> 0 | G32: (PS)福田東部 | H32: 150 | I32: =IF(+J32>0,+H32,0) -> 0 | J32: =+J$6 -> 0 | R32: =+R$6 -> 0 | S32: 城山 | T32: 690 | U32: =ROUND(V32*T32/100,-1) -> 0 | V32: =+V$6 -> 0
C33: 稲佐AMNK | D33: 650 | E33: =ROUND(F33*D33/100,-1) -> 0 | F33: =+F$6 -> 0 | G33: ※(PS)稲佐-廃店202604 | I33: =IF(+J33>0,+H33,0) -> 0 | J33: =+J$6 -> 0 | O33: ※川平-長崎に統合202609 | R33: =+R$6 -> 0 | S33: 浦上K | T33: 360 | U33: =ROUND(V33*T33/100,-1) -> 0 | V33: =+V$6 -> 0
C34: 旭町AMNK | D34: 1280 | E34: =ROUND(F34*D34/100,-1) -> 0 | F34: =+F$6 -> 0 | G34: (PS)旭町 | H34: 50 | I34: =IF(+J34>0,+H34,0) -> 0 | J34: =+J$6 -> 0 | R34: =+R$6 -> 0 | S34: 西町 | T34: 380 | U34: =ROUND(V34*T34/100,-1) -> 0 | V34: =+V$6 -> 0
C35: 城山AMNK | D35: 1010 | E35: =ROUND(F35*D35/100,-1) -> 0 | F35: =+F$6 -> 0 | Q35: =ROUND(R35*P35/100,-1) -> 0 | S35: 住吉K | T35: 380 | U35: =ROUND(V35*T35/100,-1) -> 0 | V35: =+V$6 -> 0
C36: 城栄AMNSK | D36: 3940 | E36: =ROUND(F36*D36/100,-1) -> 0 | F36: =+F$6 -> 0 | G36: (PS)城栄 | H36: 50 | I36: =IF(+J36>0,+H36,0) -> 0 | J36: =+J$6 -> 0 | Q36: =ROUND(R36*P36/100,-1) -> 0 | S36: 三原･女の都K | T36: 450 | U36: =ROUND(V36*T36/100,-1) -> 0 | V36: =+V$6 -> 0
C37: 赤迫･西町AMNK | D37: 3040 | E37: =ROUND(F37*D37/100,-1) -> 0 | F37: =+F$6 -> 0 | G37: (PS)赤迫･西町 | H37: 400 | I37: =IF(+J37>0,+H37,0) -> 0 | J37: =+J$6 -> 0 | S37: 滑石ANK | T37: 1500 | U37: =ROUND(V37*T37/100,-1) -> 0 | V37: =+V$6 -> 0
C38: 浦上駅前AMNSK | D38: 1880 | E38: =ROUND(F38*D38/100,-1) -> 0 | F38: =+F$6 -> 0 | G38: (PS)浦上駅前 | H38: 200 | I38: =IF(+J38>0,+H38,0) -> 0 | J38: =+J$6 -> 0 | S38: 北部AN | T38: 430 | U38: =ROUND(V38*T38/100,-1) -> 0 | V38: =+V$6 -> 0
C39: 大手AMNSK | D39: 1030 | E39: =ROUND(F39*D39/100,-1) -> 0 | F39: =+F$6 -> 0 | G39: (PS)大手 | H39: 50 | I39: =IF(+J39>0,+H39,0) -> 0 | J39: =+J$6 -> 0 | U39: =ROUND(V39*T39/100,-1) -> 0
C40: 川平AMNSK | D40: 1870 | E40: =ROUND(F40*D40/100,-1) -> 0 | F40: =+F$6 -> 0 | G40: (PS)川平 | H40: 50 | I40: =IF(+J40>0,+H40,0) -> 0 | J40: =+J$6 -> 0 | U40: =ROUND(V40*T40/100,-1) -> 0
C41: 住吉AMNSK | D41: 4950 | E41: =ROUND(F41*D41/100,-1) -> 0 | F41: =+F$6 -> 0 | G41: (PS)住吉 | H41: 500 | I41: =IF(+J41>0,+H41,0) -> 0 | J41: =+J$6 -> 0 | U41: =ROUND(V41*T41/100,-1) -> 0
...
